BEGIN:VCALENDAR
VERSION:2.0
PRODID:-//1. Schachclub Somborn 1933 e.V. - ECPv6.15.20//NONSGML v1.0//EN
CALSCALE:GREGORIAN
METHOD:PUBLISH
X-WR-CALNAME:1. Schachclub Somborn 1933 e.V.
X-ORIGINAL-URL:https://scsomborn.de
X-WR-CALDESC:Veranstaltungen für 1. Schachclub Somborn 1933 e.V.
REFRESH-INTERVAL;VALUE=DURATION:PT1H
X-Robots-Tag:noindex
X-PUBLISHED-TTL:PT1H
BEGIN:VTIMEZONE
TZID:Europe/Berlin
BEGIN:DAYLIGHT
TZOFFSETFROM:+0100
TZOFFSETTO:+0200
TZNAME:CEST
DTSTART:20250330T010000
END:DAYLIGHT
BEGIN:STANDARD
TZOFFSETFROM:+0200
TZOFFSETTO:+0100
TZNAME:CET
DTSTART:20251026T010000
END:STANDARD
BEGIN:DAYLIGHT
TZOFFSETFROM:+0100
TZOFFSETTO:+0200
TZNAME:CEST
DTSTART:20260329T010000
END:DAYLIGHT
BEGIN:STANDARD
TZOFFSETFROM:+0200
TZOFFSETTO:+0100
TZNAME:CET
DTSTART:20261025T010000
END:STANDARD
BEGIN:DAYLIGHT
TZOFFSETFROM:+0100
TZOFFSETTO:+0200
TZNAME:CEST
DTSTART:20270328T010000
END:DAYLIGHT
BEGIN:STANDARD
TZOFFSETFROM:+0200
TZOFFSETTO:+0100
TZNAME:CET
DTSTART:20271031T010000
END:STANDARD
END:VTIMEZONE
BEGIN:VEVENT
DTSTART;TZID=Europe/Berlin:20260703T183000
DTEND;TZID=Europe/Berlin:20260703T200000
DTSTAMP:20260422T110245
CREATED:20260304T193338Z
LAST-MODIFIED:20260304T193338Z
UID:3927-1783103400-1783108800@scsomborn.de
SUMMARY:Jugendtraining
DESCRIPTION:
URL:https://scsomborn.de/event/jugendtraining-27/
END:VEVENT
BEGIN:VEVENT
DTSTART;TZID=Europe/Berlin:20260703T201500
DTEND;TZID=Europe/Berlin:20260703T230000
DTSTAMP:20260422T110245
CREATED:20260304T193308Z
LAST-MODIFIED:20260304T193815Z
UID:3918-1783109700-1783119600@scsomborn.de
SUMMARY:Monatsblitzturnier
DESCRIPTION:
URL:https://scsomborn.de/event/vereinsabend-vereinsmeisterschaft-freie-partien-12/
END:VEVENT
BEGIN:VEVENT
DTSTART;TZID=Europe/Berlin:20260710T183000
DTEND;TZID=Europe/Berlin:20260710T200000
DTSTAMP:20260422T110245
CREATED:20260304T193339Z
LAST-MODIFIED:20260304T193339Z
UID:3928-1783708200-1783713600@scsomborn.de
SUMMARY:Jugendtraining
DESCRIPTION:
URL:https://scsomborn.de/event/jugendtraining-28/
END:VEVENT
BEGIN:VEVENT
DTSTART;TZID=Europe/Berlin:20260710T200000
DTEND;TZID=Europe/Berlin:20260710T230000
DTSTAMP:20260422T110245
CREATED:20260304T193322Z
LAST-MODIFIED:20260304T193322Z
UID:3919-1783713600-1783724400@scsomborn.de
SUMMARY:Vereinsabend: Vereinsmeisterschaft / freie Partien
DESCRIPTION:
URL:https://scsomborn.de/event/vereinsabend-vereinsmeisterschaft-freie-partien-13/
END:VEVENT
BEGIN:VEVENT
DTSTART;TZID=Europe/Berlin:20260717T183000
DTEND;TZID=Europe/Berlin:20260717T200000
DTSTAMP:20260422T110245
CREATED:20260304T193353Z
LAST-MODIFIED:20260304T193353Z
UID:3929-1784313000-1784318400@scsomborn.de
SUMMARY:Jugendtraining
DESCRIPTION:
URL:https://scsomborn.de/event/jugendtraining-29/
END:VEVENT
BEGIN:VEVENT
DTSTART;TZID=Europe/Berlin:20260717T200000
DTEND;TZID=Europe/Berlin:20260717T230000
DTSTAMP:20260422T110245
CREATED:20260304T193323Z
LAST-MODIFIED:20260304T193323Z
UID:3920-1784318400-1784329200@scsomborn.de
SUMMARY:Vereinsabend: Vereinsmeisterschaft / freie Partien
DESCRIPTION:
URL:https://scsomborn.de/event/vereinsabend-vereinsmeisterschaft-freie-partien-14/
END:VEVENT
BEGIN:VEVENT
DTSTART;TZID=Europe/Berlin:20260724T183000
DTEND;TZID=Europe/Berlin:20260724T200000
DTSTAMP:20260422T110245
CREATED:20260304T193353Z
LAST-MODIFIED:20260304T193353Z
UID:3930-1784917800-1784923200@scsomborn.de
SUMMARY:Jugendtraining
DESCRIPTION:
URL:https://scsomborn.de/event/jugendtraining-30/
END:VEVENT
BEGIN:VEVENT
DTSTART;TZID=Europe/Berlin:20260724T200000
DTEND;TZID=Europe/Berlin:20260724T230000
DTSTAMP:20260422T110245
CREATED:20260304T193323Z
LAST-MODIFIED:20260304T193323Z
UID:3921-1784923200-1784934000@scsomborn.de
SUMMARY:Vereinsabend: Vereinsmeisterschaft / freie Partien
DESCRIPTION:
URL:https://scsomborn.de/event/vereinsabend-vereinsmeisterschaft-freie-partien-15/
END:VEVENT
BEGIN:VEVENT
DTSTART;TZID=Europe/Berlin:20260731T183000
DTEND;TZID=Europe/Berlin:20260731T200000
DTSTAMP:20260422T110245
CREATED:20260304T193353Z
LAST-MODIFIED:20260304T193353Z
UID:3931-1785522600-1785528000@scsomborn.de
SUMMARY:Jugendtraining
DESCRIPTION:
URL:https://scsomborn.de/event/jugendtraining-31/
END:VEVENT
BEGIN:VEVENT
DTSTART;TZID=Europe/Berlin:20260731T200000
DTEND;TZID=Europe/Berlin:20260731T230000
DTSTAMP:20260422T110245
CREATED:20260304T193323Z
LAST-MODIFIED:20260304T193323Z
UID:3922-1785528000-1785538800@scsomborn.de
SUMMARY:Vereinsabend: Vereinsmeisterschaft / freie Partien
DESCRIPTION:
URL:https://scsomborn.de/event/vereinsabend-vereinsmeisterschaft-freie-partien-16/
END:VEVENT
END:VCALENDAR