BEGIN:VCALENDAR
VERSION:2.0
PRODID:-//1. Schachclub Somborn 1933 e.V. - ECPv6.15.20//NONSGML v1.0//EN
CALSCALE:GREGORIAN
METHOD:PUBLISH
X-WR-CALNAME:1. Schachclub Somborn 1933 e.V.
X-ORIGINAL-URL:https://scsomborn.de
X-WR-CALDESC:Veranstaltungen für 1. Schachclub Somborn 1933 e.V.
REFRESH-INTERVAL;VALUE=DURATION:PT1H
X-Robots-Tag:noindex
X-PUBLISHED-TTL:PT1H
BEGIN:VTIMEZONE
TZID:Europe/Berlin
BEGIN:DAYLIGHT
TZOFFSETFROM:+0100
TZOFFSETTO:+0200
TZNAME:CEST
DTSTART:20240331T010000
END:DAYLIGHT
BEGIN:STANDARD
TZOFFSETFROM:+0200
TZOFFSETTO:+0100
TZNAME:CET
DTSTART:20241027T010000
END:STANDARD
BEGIN:DAYLIGHT
TZOFFSETFROM:+0100
TZOFFSETTO:+0200
TZNAME:CEST
DTSTART:20250330T010000
END:DAYLIGHT
BEGIN:STANDARD
TZOFFSETFROM:+0200
TZOFFSETTO:+0100
TZNAME:CET
DTSTART:20251026T010000
END:STANDARD
BEGIN:DAYLIGHT
TZOFFSETFROM:+0100
TZOFFSETTO:+0200
TZNAME:CEST
DTSTART:20260329T010000
END:DAYLIGHT
BEGIN:STANDARD
TZOFFSETFROM:+0200
TZOFFSETTO:+0100
TZNAME:CET
DTSTART:20261025T010000
END:STANDARD
END:VTIMEZONE
BEGIN:VEVENT
DTSTART;TZID=Europe/Berlin:20251205T201500
DTEND;TZID=Europe/Berlin:20251205T230000
DTSTAMP:20260422T135739
CREATED:20250528T231058Z
LAST-MODIFIED:20250528T231058Z
UID:3190-1764965700-1764975600@scsomborn.de
SUMMARY:Monatsblitzturnier
DESCRIPTION:
URL:https://scsomborn.de/event/monatsblitzturnier-15/
END:VEVENT
BEGIN:VEVENT
DTSTART;TZID=Europe/Berlin:20251206T180000
DTEND;TZID=Europe/Berlin:20251206T210000
DTSTAMP:20260422T135739
CREATED:20250824T222113Z
LAST-MODIFIED:20250824T222113Z
UID:3507-1765044000-1765054800@scsomborn.de
SUMMARY:Bezirksoberliga SC Nidderau 1 vs SC Somborn 1 (5)
DESCRIPTION:Bezirksoberliga\nBegegnungs-Nr: 5\nHeim: SC Nidderau 1\nGast: SC Somborn 1 \nAdresse: Friedberger Str. 27\, 61130 Nidderau
URL:https://scsomborn.de/event/bezirksoberliga-sc-nidderau-1-vs-sc-somborn-1-5/
END:VEVENT
BEGIN:VEVENT
DTSTART;TZID=Europe/Berlin:20251207T130000
DTEND;TZID=Europe/Berlin:20251207T170000
DTSTAMP:20260422T135739
CREATED:20250825T172353Z
LAST-MODIFIED:20250825T172353Z
UID:3525-1765112400-1765126800@scsomborn.de
SUMMARY:Main-Vogelsberg-Schachjugend (MVSJ)  - Runde 3
DESCRIPTION:
URL:https://scsomborn.de/event/main-vogelsberg-schachjugend-mvsj-runde-3/
END:VEVENT
BEGIN:VEVENT
DTSTART;TZID=Europe/Berlin:20251212T201500
DTEND;TZID=Europe/Berlin:20251212T230000
DTSTAMP:20260422T135739
CREATED:20250528T231201Z
LAST-MODIFIED:20250528T231201Z
UID:3214-1765570500-1765580400@scsomborn.de
SUMMARY:Vereinsmeisterschaft / freie Partien
DESCRIPTION:
URL:https://scsomborn.de/event/vereinsmeisterschaft-freie-partien-7/
END:VEVENT
BEGIN:VEVENT
DTSTART;TZID=Europe/Berlin:20251213T180000
DTEND;TZID=Europe/Berlin:20251213T210000
DTSTAMP:20260422T135739
CREATED:20250824T222129Z
LAST-MODIFIED:20250824T222129Z
UID:3512-1765648800-1765659600@scsomborn.de
SUMMARY:Kreisoberliga SC Somborn 2 vs SF Seligenstadt 1 (20)
DESCRIPTION:Kreisoberliga\nBegegnungs-Nr: 20\nHeim: SC Somborn 2\nGast: SF Seligenstadt 1 \nAdresse: Am Sportfeld 16\, 63579 Freigericht-Somborn
URL:https://scsomborn.de/event/kreisoberliga-sc-somborn-2-vs-sf-seligenstadt-1-20/
END:VEVENT
BEGIN:VEVENT
DTSTART;TZID=Europe/Berlin:20251219T200000
DTEND;TZID=Europe/Berlin:20251219T233000
DTSTAMP:20260422T135739
CREATED:20250528T231231Z
LAST-MODIFIED:20250528T231231Z
UID:3222-1766174400-1766187000@scsomborn.de
SUMMARY:WEIHNACHTSFEIER
DESCRIPTION:
URL:https://scsomborn.de/event/weihnachtsfeier/
END:VEVENT
BEGIN:VEVENT
DTSTART;VALUE=DATE:20251225
DTEND;VALUE=DATE:20251226
DTSTAMP:20260422T135739
CREATED:20250528T232259Z
LAST-MODIFIED:20250528T232259Z
UID:3247-1766620800-1766707199@scsomborn.de
SUMMARY:Weihnachten
DESCRIPTION:
URL:https://scsomborn.de/event/weihnachten/
END:VEVENT
BEGIN:VEVENT
DTSTART;VALUE=DATE:20251226
DTEND;VALUE=DATE:20251227
DTSTAMP:20260422T135739
CREATED:20250528T232336Z
LAST-MODIFIED:20250528T232336Z
UID:3250-1766707200-1766793599@scsomborn.de
SUMMARY:Weihnachten
DESCRIPTION:
URL:https://scsomborn.de/event/weihnachten-2/
END:VEVENT
END:VCALENDAR