BEGIN:VCALENDAR
VERSION:2.0
PRODID:-//1. Schachclub Somborn 1933 e.V. - ECPv6.15.20//NONSGML v1.0//EN
CALSCALE:GREGORIAN
METHOD:PUBLISH
X-ORIGINAL-URL:https://scsomborn.de
X-WR-CALDESC:Veranstaltungen für 1. Schachclub Somborn 1933 e.V.
REFRESH-INTERVAL;VALUE=DURATION:PT1H
X-Robots-Tag:noindex
X-PUBLISHED-TTL:PT1H
BEGIN:VTIMEZONE
TZID:Europe/Berlin
BEGIN:DAYLIGHT
TZOFFSETFROM:+0100
TZOFFSETTO:+0200
TZNAME:CEST
DTSTART:20240331T010000
END:DAYLIGHT
BEGIN:STANDARD
TZOFFSETFROM:+0200
TZOFFSETTO:+0100
TZNAME:CET
DTSTART:20241027T010000
END:STANDARD
BEGIN:DAYLIGHT
TZOFFSETFROM:+0100
TZOFFSETTO:+0200
TZNAME:CEST
DTSTART:20250330T010000
END:DAYLIGHT
BEGIN:STANDARD
TZOFFSETFROM:+0200
TZOFFSETTO:+0100
TZNAME:CET
DTSTART:20251026T010000
END:STANDARD
BEGIN:DAYLIGHT
TZOFFSETFROM:+0100
TZOFFSETTO:+0200
TZNAME:CEST
DTSTART:20260329T010000
END:DAYLIGHT
BEGIN:STANDARD
TZOFFSETFROM:+0200
TZOFFSETTO:+0100
TZNAME:CET
DTSTART:20261025T010000
END:STANDARD
END:VTIMEZONE
BEGIN:VEVENT
DTSTART;TZID=Europe/Berlin:20251102T130000
DTEND;TZID=Europe/Berlin:20251102T170000
DTSTAMP:20260422T154504
CREATED:20250825T172353Z
LAST-MODIFIED:20251005T190051Z
UID:3524-1762088400-1762102800@scsomborn.de
SUMMARY:Main-Vogelsberg-Schachjugend (MVSJ)  - Runde 2
DESCRIPTION:SC Somborn 2  :  SC Gelnhausen 1\nSV Frankfurt Nord 1   :  SC Somborn 1
URL:https://scsomborn.de/event/main-vogelsberg-schachjugend-mvsj-runde-2/
END:VEVENT
BEGIN:VEVENT
DTSTART;TZID=Europe/Berlin:20251107T201500
DTEND;TZID=Europe/Berlin:20251107T230000
DTSTAMP:20260422T154504
CREATED:20250528T231058Z
LAST-MODIFIED:20250528T231058Z
UID:3189-1762546500-1762556400@scsomborn.de
SUMMARY:Monatsblitzturnier
DESCRIPTION:
URL:https://scsomborn.de/event/monatsblitzturnier-14/
END:VEVENT
BEGIN:VEVENT
DTSTART;TZID=Europe/Berlin:20251108T180000
DTEND;TZID=Europe/Berlin:20251108T210000
DTSTAMP:20260422T154504
CREATED:20250824T222129Z
LAST-MODIFIED:20250824T222129Z
UID:3513-1762624800-1762635600@scsomborn.de
SUMMARY:Kreisoberliga SC Somborn 2 vs spielfrei (11)
DESCRIPTION:Kreisoberliga\nBegegnungs-Nr: 11\nHeim: SC Somborn 2\nGast: spielfrei \nAdresse: Am Sportfeld 16\, 63579 Freigericht-Somborn
URL:https://scsomborn.de/event/kreisoberliga-sc-somborn-2-vs-spielfrei-11/
END:VEVENT
BEGIN:VEVENT
DTSTART;TZID=Europe/Berlin:20251114T201500
DTEND;TZID=Europe/Berlin:20251114T230000
DTSTAMP:20260422T154504
CREATED:20250528T231147Z
LAST-MODIFIED:20250528T231147Z
UID:3211-1763151300-1763161200@scsomborn.de
SUMMARY:Vereinsabend: Training / freie Partien
DESCRIPTION:
URL:https://scsomborn.de/event/vereinsabend-training-freie-partien-33/
END:VEVENT
BEGIN:VEVENT
DTSTART;TZID=Europe/Berlin:20251115T180000
DTEND;TZID=Europe/Berlin:20251115T210000
DTSTAMP:20260422T154504
CREATED:20250824T222113Z
LAST-MODIFIED:20250824T222113Z
UID:3508-1763229600-1763240400@scsomborn.de
SUMMARY:Bezirksoberliga SK Bischofsheim 1 vs SC Somborn 1 (4)
DESCRIPTION:Bezirksoberliga\nBegegnungs-Nr: 4\nHeim: SK Bischofsheim 1\nGast: SC Somborn 1 \nAdresse: Dörnigheimer Weg\, 63477 Maintal
URL:https://scsomborn.de/event/bezirksoberliga-sk-bischofsheim-1-vs-sc-somborn-1-4/
END:VEVENT
BEGIN:VEVENT
DTSTART;TZID=Europe/Berlin:20251121T201500
DTEND;TZID=Europe/Berlin:20251121T230000
DTSTAMP:20260422T154504
CREATED:20250528T231201Z
LAST-MODIFIED:20250528T231201Z
UID:3212-1763756100-1763766000@scsomborn.de
SUMMARY:Vereinsmeisterschaft / freie Partien
DESCRIPTION:
URL:https://scsomborn.de/event/vereinsmeisterschaft-freie-partien-5/
END:VEVENT
BEGIN:VEVENT
DTSTART;TZID=Europe/Berlin:20251128T201500
DTEND;TZID=Europe/Berlin:20251128T230000
DTSTAMP:20260422T154504
CREATED:20250528T231201Z
LAST-MODIFIED:20250528T231201Z
UID:3213-1764360900-1764370800@scsomborn.de
SUMMARY:Vereinsmeisterschaft / freie Partien
DESCRIPTION:
URL:https://scsomborn.de/event/vereinsmeisterschaft-freie-partien-6/
END:VEVENT
END:VCALENDAR