BEGIN:VCALENDAR
VERSION:2.0
PRODID:-//1. Schachclub Somborn 1933 e.V. - ECPv6.15.20//NONSGML v1.0//EN
CALSCALE:GREGORIAN
METHOD:PUBLISH
X-ORIGINAL-URL:https://scsomborn.de
X-WR-CALDESC:Veranstaltungen für 1. Schachclub Somborn 1933 e.V.
REFRESH-INTERVAL;VALUE=DURATION:PT1H
X-Robots-Tag:noindex
X-PUBLISHED-TTL:PT1H
BEGIN:VTIMEZONE
TZID:Europe/Berlin
BEGIN:DAYLIGHT
TZOFFSETFROM:+0100
TZOFFSETTO:+0200
TZNAME:CEST
DTSTART:20240331T010000
END:DAYLIGHT
BEGIN:STANDARD
TZOFFSETFROM:+0200
TZOFFSETTO:+0100
TZNAME:CET
DTSTART:20241027T010000
END:STANDARD
BEGIN:DAYLIGHT
TZOFFSETFROM:+0100
TZOFFSETTO:+0200
TZNAME:CEST
DTSTART:20250330T010000
END:DAYLIGHT
BEGIN:STANDARD
TZOFFSETFROM:+0200
TZOFFSETTO:+0100
TZNAME:CET
DTSTART:20251026T010000
END:STANDARD
BEGIN:DAYLIGHT
TZOFFSETFROM:+0100
TZOFFSETTO:+0200
TZNAME:CEST
DTSTART:20260329T010000
END:DAYLIGHT
BEGIN:STANDARD
TZOFFSETFROM:+0200
TZOFFSETTO:+0100
TZNAME:CET
DTSTART:20261025T010000
END:STANDARD
END:VTIMEZONE
BEGIN:VEVENT
DTSTART;VALUE=DATE:20251003
DTEND;VALUE=DATE:20251004
DTSTAMP:20260422T170902
CREATED:20250309T183210Z
LAST-MODIFIED:20250922T193138Z
UID:3137-1759449600-1759535999@scsomborn.de
SUMMARY:Tag der dt. Einheit - KEIN Vereinsabend
DESCRIPTION:
URL:https://scsomborn.de/event/tag-der-dt-einheit/
END:VEVENT
BEGIN:VEVENT
DTSTART;TZID=Europe/Berlin:20251010T201500
DTEND;TZID=Europe/Berlin:20251010T230000
DTSTAMP:20260422T170902
CREATED:20250528T231058Z
LAST-MODIFIED:20250528T231058Z
UID:3188-1760127300-1760137200@scsomborn.de
SUMMARY:Monatsblitzturnier
DESCRIPTION:
URL:https://scsomborn.de/event/monatsblitzturnier-13/
END:VEVENT
BEGIN:VEVENT
DTSTART;TZID=Europe/Berlin:20251017T201500
DTEND;TZID=Europe/Berlin:20251017T230000
DTSTAMP:20260422T170902
CREATED:20250528T231146Z
LAST-MODIFIED:20250528T231146Z
UID:3208-1760732100-1760742000@scsomborn.de
SUMMARY:Vereinsmeisterschaft / freie Partien
DESCRIPTION:
URL:https://scsomborn.de/event/vereinsmeisterschaft-freie-partien-3/
END:VEVENT
BEGIN:VEVENT
DTSTART;TZID=Europe/Berlin:20251024T201500
DTEND;TZID=Europe/Berlin:20251024T230000
DTSTAMP:20260422T170902
CREATED:20250528T231146Z
LAST-MODIFIED:20250528T231146Z
UID:3209-1761336900-1761346800@scsomborn.de
SUMMARY:Vereinsmeisterschaft / freie Partien
DESCRIPTION:
URL:https://scsomborn.de/event/vereinsmeisterschaft-freie-partien-4/
END:VEVENT
BEGIN:VEVENT
DTSTART;TZID=Europe/Berlin:20251025T180000
DTEND;TZID=Europe/Berlin:20251025T210000
DTSTAMP:20260422T170902
CREATED:20250824T222144Z
LAST-MODIFIED:20250824T222144Z
UID:3518-1761415200-1761426000@scsomborn.de
SUMMARY:Kreisoberliga SV Großauheim 3 vs SC Somborn 2 (10)
DESCRIPTION:Kreisoberliga\nBegegnungs-Nr: 10\nHeim: SV Großauheim 3\nGast: SC Somborn 2 \nAdresse: Hans-Gruber-Platz\, 63457 Hanau
URL:https://scsomborn.de/event/kreisoberliga-sv-grossauheim-3-vs-sc-somborn-2-10/
END:VEVENT
BEGIN:VEVENT
DTSTART;TZID=Europe/Berlin:20251031T201500
DTEND;TZID=Europe/Berlin:20251031T230000
DTSTAMP:20260422T170902
CREATED:20250528T231147Z
LAST-MODIFIED:20250528T231147Z
UID:3210-1761941700-1761951600@scsomborn.de
SUMMARY:Vereinsabend: Training / freie Partien
DESCRIPTION:
URL:https://scsomborn.de/event/vereinsabend-training-freie-partien-32/
END:VEVENT
END:VCALENDAR