BEGIN:VCALENDAR
VERSION:2.0
PRODID:-//1. Schachclub Somborn 1933 e.V. - ECPv6.15.20//NONSGML v1.0//EN
CALSCALE:GREGORIAN
METHOD:PUBLISH
X-ORIGINAL-URL:https://scsomborn.de
X-WR-CALDESC:Veranstaltungen für 1. Schachclub Somborn 1933 e.V.
REFRESH-INTERVAL;VALUE=DURATION:PT1H
X-Robots-Tag:noindex
X-PUBLISHED-TTL:PT1H
BEGIN:VTIMEZONE
TZID:Europe/Berlin
BEGIN:DAYLIGHT
TZOFFSETFROM:+0100
TZOFFSETTO:+0200
TZNAME:CEST
DTSTART:20240331T010000
END:DAYLIGHT
BEGIN:STANDARD
TZOFFSETFROM:+0200
TZOFFSETTO:+0100
TZNAME:CET
DTSTART:20241027T010000
END:STANDARD
BEGIN:DAYLIGHT
TZOFFSETFROM:+0100
TZOFFSETTO:+0200
TZNAME:CEST
DTSTART:20250330T010000
END:DAYLIGHT
BEGIN:STANDARD
TZOFFSETFROM:+0200
TZOFFSETTO:+0100
TZNAME:CET
DTSTART:20251026T010000
END:STANDARD
BEGIN:DAYLIGHT
TZOFFSETFROM:+0100
TZOFFSETTO:+0200
TZNAME:CEST
DTSTART:20260329T010000
END:DAYLIGHT
BEGIN:STANDARD
TZOFFSETFROM:+0200
TZOFFSETTO:+0100
TZNAME:CET
DTSTART:20261025T010000
END:STANDARD
END:VTIMEZONE
BEGIN:VEVENT
DTSTART;TZID=Europe/Berlin:20250905T201500
DTEND;TZID=Europe/Berlin:20250905T230000
DTSTAMP:20260422T184640
CREATED:20250528T231057Z
LAST-MODIFIED:20250528T231057Z
UID:3187-1757103300-1757113200@scsomborn.de
SUMMARY:Monatsblitzturnier
DESCRIPTION:
URL:https://scsomborn.de/event/monatsblitzturnier-12/
END:VEVENT
BEGIN:VEVENT
DTSTART;TZID=Europe/Berlin:20250907T130000
DTEND;TZID=Europe/Berlin:20250907T170000
DTSTAMP:20260422T184640
CREATED:20250825T172352Z
LAST-MODIFIED:20250825T172352Z
UID:3523-1757250000-1757264400@scsomborn.de
SUMMARY:Main-Vogelsberg-Schachjugend (MVSJ)  - Runde 1
DESCRIPTION:Dorfgemeinschaftshaus Wolf\nIn der Wolbig 2\n63654 Büdingen-Wolf \nAufbau ab 13:30 Uhr
URL:https://scsomborn.de/event/main-vogelsberg-schachjugend-mvsj-runde-1/
END:VEVENT
BEGIN:VEVENT
DTSTART;TZID=Europe/Berlin:20250912T201500
DTEND;TZID=Europe/Berlin:20250912T230000
DTSTAMP:20260422T184640
CREATED:20250528T231131Z
LAST-MODIFIED:20250528T231131Z
UID:3205-1757708100-1757718000@scsomborn.de
SUMMARY:Vereinsmeisterschaft / freie Partien
DESCRIPTION:
URL:https://scsomborn.de/event/vereinsmeisterschaft-freie-partien/
END:VEVENT
BEGIN:VEVENT
DTSTART;TZID=Europe/Berlin:20250919T201500
DTEND;TZID=Europe/Berlin:20250919T230000
DTSTAMP:20260422T184640
CREATED:20250528T231131Z
LAST-MODIFIED:20250528T231131Z
UID:3206-1758312900-1758322800@scsomborn.de
SUMMARY:Vereinsabend: Training / freie Partien
DESCRIPTION:
URL:https://scsomborn.de/event/vereinsabend-training-freie-partien-31/
END:VEVENT
BEGIN:VEVENT
DTSTART;TZID=Europe/Berlin:20250926T201500
DTEND;TZID=Europe/Berlin:20250926T230000
DTSTAMP:20260422T184640
CREATED:20250528T231146Z
LAST-MODIFIED:20250528T231146Z
UID:3207-1758917700-1758927600@scsomborn.de
SUMMARY:Vereinsmeisterschaft / freie Partien
DESCRIPTION:
URL:https://scsomborn.de/event/vereinsmeisterschaft-freie-partien-2/
END:VEVENT
BEGIN:VEVENT
DTSTART;TZID=Europe/Berlin:20250927T180000
DTEND;TZID=Europe/Berlin:20250927T210000
DTSTAMP:20260422T184640
CREATED:20250824T222129Z
LAST-MODIFIED:20250920T200434Z
UID:3514-1758996000-1759006800@scsomborn.de
SUMMARY:Kreisoberliga SC Somborn 2 : SV Bergwinkel 3
DESCRIPTION:Kreisoberliga\nBegegnungs-Nr: 2\nHeim: SC Somborn 2\nGast: SV Bergwinkel 3 \nAdresse: Am Sportfeld 16\, 63579 Freigericht-Somborn
URL:https://scsomborn.de/event/kreisoberliga-sc-somborn-2-vs-sv-bergwinkel-3-2/
END:VEVENT
END:VCALENDAR