BEGIN:VCALENDAR
VERSION:2.0
PRODID:-//1. Schachclub Somborn 1933 e.V. - ECPv6.15.20//NONSGML v1.0//EN
CALSCALE:GREGORIAN
METHOD:PUBLISH
X-ORIGINAL-URL:https://scsomborn.de
X-WR-CALDESC:Veranstaltungen für 1. Schachclub Somborn 1933 e.V.
REFRESH-INTERVAL;VALUE=DURATION:PT1H
X-Robots-Tag:noindex
X-PUBLISHED-TTL:PT1H
BEGIN:VTIMEZONE
TZID:Europe/Berlin
BEGIN:DAYLIGHT
TZOFFSETFROM:+0100
TZOFFSETTO:+0200
TZNAME:CEST
DTSTART:20240331T010000
END:DAYLIGHT
BEGIN:STANDARD
TZOFFSETFROM:+0200
TZOFFSETTO:+0100
TZNAME:CET
DTSTART:20241027T010000
END:STANDARD
BEGIN:DAYLIGHT
TZOFFSETFROM:+0100
TZOFFSETTO:+0200
TZNAME:CEST
DTSTART:20250330T010000
END:DAYLIGHT
BEGIN:STANDARD
TZOFFSETFROM:+0200
TZOFFSETTO:+0100
TZNAME:CET
DTSTART:20251026T010000
END:STANDARD
BEGIN:DAYLIGHT
TZOFFSETFROM:+0100
TZOFFSETTO:+0200
TZNAME:CEST
DTSTART:20260329T010000
END:DAYLIGHT
BEGIN:STANDARD
TZOFFSETFROM:+0200
TZOFFSETTO:+0100
TZNAME:CET
DTSTART:20261025T010000
END:STANDARD
END:VTIMEZONE
BEGIN:VEVENT
DTSTART;TZID=Europe/Berlin:20250606T183000
DTEND;TZID=Europe/Berlin:20250606T193000
DTSTAMP:20260422T231218
CREATED:20241207T130302Z
LAST-MODIFIED:20250203T190215Z
UID:2741-1749234600-1749238200@scsomborn.de
SUMMARY:Jugendtraining
DESCRIPTION:
URL:https://scsomborn.de/event/jugendtraining-82/
END:VEVENT
BEGIN:VEVENT
DTSTART;TZID=Europe/Berlin:20250606T193000
DTEND;TZID=Europe/Berlin:20250606T201500
DTSTAMP:20260422T231218
CREATED:20241221T233802Z
LAST-MODIFIED:20241221T233802Z
UID:2943-1749238200-1749240900@scsomborn.de
SUMMARY:Training Fortgeschrittene & Erwachsene
DESCRIPTION:
URL:https://scsomborn.de/event/training-fortgeschrittene-erwachsene-36/
END:VEVENT
BEGIN:VEVENT
DTSTART;TZID=Europe/Berlin:20250606T201500
DTEND;TZID=Europe/Berlin:20250606T230000
DTSTAMP:20260422T231218
CREATED:20250506T193539Z
LAST-MODIFIED:20250606T230419Z
UID:3178-1749240900-1749250800@scsomborn.de
SUMMARY:VORSTANDSSITZUNG / Vereinsabend: Training / freie Partien
DESCRIPTION:
URL:https://scsomborn.de/event/monatsblitzturnier-2-2/
END:VEVENT
BEGIN:VEVENT
DTSTART;TZID=Europe/Berlin:20250613T183000
DTEND;TZID=Europe/Berlin:20250613T200000
DTSTAMP:20260422T231218
CREATED:20241207T130302Z
LAST-MODIFIED:20250530T122338Z
UID:2742-1749839400-1749844800@scsomborn.de
SUMMARY:KEIN   JUGENDTRAINING
DESCRIPTION:
URL:https://scsomborn.de/event/jugendtraining-83/
END:VEVENT
BEGIN:VEVENT
DTSTART;TZID=Europe/Berlin:20250613T201500
DTEND;TZID=Europe/Berlin:20250613T230000
DTSTAMP:20260422T231218
CREATED:20250528T231100Z
LAST-MODIFIED:20250606T230510Z
UID:3193-1749845700-1749855600@scsomborn.de
SUMMARY:Monatsblitzturnier 2
DESCRIPTION:
URL:https://scsomborn.de/event/vereinsabend-training-freie-partien-19/
END:VEVENT
BEGIN:VEVENT
DTSTART;VALUE=DATE:20250619
DTEND;VALUE=DATE:20250620
DTSTAMP:20260422T231218
CREATED:20250309T182913Z
LAST-MODIFIED:20250309T182913Z
UID:3134-1750291200-1750377599@scsomborn.de
SUMMARY:Fronleichnam
DESCRIPTION:
URL:https://scsomborn.de/event/fronleichnam/
END:VEVENT
BEGIN:VEVENT
DTSTART;TZID=Europe/Berlin:20250620T183000
DTEND;TZID=Europe/Berlin:20250620T193000
DTSTAMP:20260422T231218
CREATED:20241207T130311Z
LAST-MODIFIED:20250203T190144Z
UID:2743-1750444200-1750447800@scsomborn.de
SUMMARY:Jugendtraining
DESCRIPTION:
URL:https://scsomborn.de/event/jugendtraining-84/
END:VEVENT
BEGIN:VEVENT
DTSTART;TZID=Europe/Berlin:20250620T193000
DTEND;TZID=Europe/Berlin:20250620T201500
DTSTAMP:20260422T231218
CREATED:20241221T233817Z
LAST-MODIFIED:20241221T233817Z
UID:2945-1750447800-1750450500@scsomborn.de
SUMMARY:Training Fortgeschrittene & Erwachsene
DESCRIPTION:
URL:https://scsomborn.de/event/training-fortgeschrittene-erwachsene-38/
END:VEVENT
BEGIN:VEVENT
DTSTART;TZID=Europe/Berlin:20250620T201500
DTEND;TZID=Europe/Berlin:20250620T230000
DTSTAMP:20260422T231218
CREATED:20250528T231100Z
LAST-MODIFIED:20250528T231100Z
UID:3194-1750450500-1750460400@scsomborn.de
SUMMARY:Vereinsabend: Training / freie Partien
DESCRIPTION:
URL:https://scsomborn.de/event/vereinsabend-training-freie-partien-20/
END:VEVENT
BEGIN:VEVENT
DTSTART;TZID=Europe/Berlin:20250621T113000
DTEND;TZID=Europe/Berlin:20250621T170000
DTSTAMP:20260422T231218
CREATED:20241027T204953Z
LAST-MODIFIED:20250203T225300Z
UID:2612-1750505400-1750525200@scsomborn.de
SUMMARY:SAF „Schachakademie Freigericht gg. Rest der Welt“ (4)
DESCRIPTION:Details siehe_\nSAF Grand Prix gg Rest der Welt
URL:https://scsomborn.de/event/saf-schachakademie-freigericht-gg-rest-der-welt-4/
LOCATION:SAF „Schachakademie Freigericht gg. Rest der Welt“ (4)\, Wiesenweg 18\, 97837 Erlenbach
END:VEVENT
BEGIN:VEVENT
DTSTART;TZID=Europe/Berlin:20250627T193000
DTEND;TZID=Europe/Berlin:20250627T201500
DTSTAMP:20260422T231218
CREATED:20241221T233817Z
LAST-MODIFIED:20241221T233817Z
UID:2946-1751052600-1751055300@scsomborn.de
SUMMARY:Training Fortgeschrittene & Erwachsene
DESCRIPTION:
URL:https://scsomborn.de/event/training-fortgeschrittene-erwachsene-39/
END:VEVENT
BEGIN:VEVENT
DTSTART;TZID=Europe/Berlin:20250627T201500
DTEND;TZID=Europe/Berlin:20250627T230000
DTSTAMP:20260422T231218
CREATED:20250528T231101Z
LAST-MODIFIED:20250528T231101Z
UID:3195-1751055300-1751065200@scsomborn.de
SUMMARY:Vereinsabend: Training / freie Partien
DESCRIPTION:
URL:https://scsomborn.de/event/vereinsabend-training-freie-partien-21/
END:VEVENT
END:VCALENDAR