BEGIN:VCALENDAR
VERSION:2.0
PRODID:-//1. Schachclub Somborn 1933 e.V. - ECPv6.15.20//NONSGML v1.0//EN
CALSCALE:GREGORIAN
METHOD:PUBLISH
X-WR-CALNAME:1. Schachclub Somborn 1933 e.V.
X-ORIGINAL-URL:https://scsomborn.de
X-WR-CALDESC:Veranstaltungen für 1. Schachclub Somborn 1933 e.V.
REFRESH-INTERVAL;VALUE=DURATION:PT1H
X-Robots-Tag:noindex
X-PUBLISHED-TTL:PT1H
BEGIN:VTIMEZONE
TZID:Europe/Berlin
BEGIN:DAYLIGHT
TZOFFSETFROM:+0100
TZOFFSETTO:+0200
TZNAME:CEST
DTSTART:20240331T010000
END:DAYLIGHT
BEGIN:STANDARD
TZOFFSETFROM:+0200
TZOFFSETTO:+0100
TZNAME:CET
DTSTART:20241027T010000
END:STANDARD
BEGIN:DAYLIGHT
TZOFFSETFROM:+0100
TZOFFSETTO:+0200
TZNAME:CEST
DTSTART:20250330T010000
END:DAYLIGHT
BEGIN:STANDARD
TZOFFSETFROM:+0200
TZOFFSETTO:+0100
TZNAME:CET
DTSTART:20251026T010000
END:STANDARD
BEGIN:DAYLIGHT
TZOFFSETFROM:+0100
TZOFFSETTO:+0200
TZNAME:CEST
DTSTART:20260329T010000
END:DAYLIGHT
BEGIN:STANDARD
TZOFFSETFROM:+0200
TZOFFSETTO:+0100
TZNAME:CET
DTSTART:20261025T010000
END:STANDARD
END:VTIMEZONE
BEGIN:VEVENT
DTSTART;TZID=Europe/Berlin:20250201T120000
DTEND;TZID=Europe/Berlin:20250201T140000
DTSTAMP:20260424T132519
CREATED:20241221T230254Z
LAST-MODIFIED:20241221T231724Z
UID:2815-1738411200-1738418400@scsomborn.de
SUMMARY:SAF Strategietraining  (online)
DESCRIPTION:Strategieworkshop SAF als Zoomtraining mit zwei Pausen zu Strategiemustern anhand von Bauernketten in Meisterpartien (pro Samstag ein Thema); Bitte per Code in Zoom anmelden\, wöchentliche Benachrichtigungen (mit jeweils neuem Code per Mail) gehen von uns an jeden registrierten Teilnehmer. \nTechnische Vorassetzungen siehe\nhttps://scsomborn.de/jugend/schach-akademie-freigericht/training/
URL:https://scsomborn.de/event/saf-strategietraining-online-25/
END:VEVENT
BEGIN:VEVENT
DTSTART;TZID=Europe/Berlin:20250201T180000
DTEND;TZID=Europe/Berlin:20250201T230000
DTSTAMP:20260424T132519
CREATED:20240706T172106Z
LAST-MODIFIED:20240706T172106Z
UID:2224-1738432800-1738450800@scsomborn.de
SUMMARY:6. Runde Bezirksoberliga 	Bischofsheim I - Somborn I
DESCRIPTION:
URL:https://scsomborn.de/event/6-runde-bezirksoberliga-bischofsheim-i-somborn-i/
END:VEVENT
BEGIN:VEVENT
DTSTART;TZID=Europe/Berlin:20250207T180000
DTEND;TZID=Europe/Berlin:20250207T193000
DTSTAMP:20260424T132519
CREATED:20241207T122225Z
LAST-MODIFIED:20241207T122225Z
UID:2704-1738951200-1738956600@scsomborn.de
SUMMARY:Jugendtraining
DESCRIPTION:
URL:https://scsomborn.de/event/jugendtraining-65/
END:VEVENT
BEGIN:VEVENT
DTSTART;TZID=Europe/Berlin:20250207T193000
DTEND;TZID=Europe/Berlin:20250207T201500
DTSTAMP:20260424T132519
CREATED:20241207T122433Z
LAST-MODIFIED:20241207T122433Z
UID:2712-1738956600-1738959300@scsomborn.de
SUMMARY:Training Fortgeschrittene & Erwachsene
DESCRIPTION:
URL:https://scsomborn.de/event/training-fortgeschrittene-erwachsene-19/
END:VEVENT
BEGIN:VEVENT
DTSTART;TZID=Europe/Berlin:20250207T201500
DTEND;TZID=Europe/Berlin:20250207T230000
DTSTAMP:20260424T132519
CREATED:20241202T201341Z
LAST-MODIFIED:20241202T201341Z
UID:2694-1738959300-1738969200@scsomborn.de
SUMMARY:Monatsblitzturnier 9
DESCRIPTION:
URL:https://scsomborn.de/event/monatsblitzturnier-9-2/
END:VEVENT
BEGIN:VEVENT
DTSTART;TZID=Europe/Berlin:20250214T183000
DTEND;TZID=Europe/Berlin:20250214T193000
DTSTAMP:20260424T132519
CREATED:20241207T122249Z
LAST-MODIFIED:20250207T204150Z
UID:2706-1739557800-1739561400@scsomborn.de
SUMMARY:Jugendtraining
DESCRIPTION:
URL:https://scsomborn.de/event/jugendtraining-66/
END:VEVENT
BEGIN:VEVENT
DTSTART;TZID=Europe/Berlin:20250214T193000
DTEND;TZID=Europe/Berlin:20250214T201500
DTSTAMP:20260424T132519
CREATED:20241207T122503Z
LAST-MODIFIED:20241207T122503Z
UID:2714-1739561400-1739564100@scsomborn.de
SUMMARY:Training Fortgeschrittene & Erwachsene
DESCRIPTION:
URL:https://scsomborn.de/event/training-fortgeschrittene-erwachsene-20/
END:VEVENT
BEGIN:VEVENT
DTSTART;TZID=Europe/Berlin:20250214T201500
DTEND;TZID=Europe/Berlin:20250214T230000
DTSTAMP:20260424T132519
CREATED:20241202T200925Z
LAST-MODIFIED:20241202T200925Z
UID:2686-1739564100-1739574000@scsomborn.de
SUMMARY:Vereinsmeisterschaft / Training & freie Partien
DESCRIPTION:
URL:https://scsomborn.de/event/vereinsmeisterschaft-training-freie-partien-21/
END:VEVENT
BEGIN:VEVENT
DTSTART;TZID=Europe/Berlin:20250215T120000
DTEND;TZID=Europe/Berlin:20250215T140000
DTSTAMP:20260424T132519
CREATED:20241221T230255Z
LAST-MODIFIED:20241221T231725Z
UID:2817-1739620800-1739628000@scsomborn.de
SUMMARY:SAF Strategietraining  (online)
DESCRIPTION:Strategieworkshop SAF als Zoomtraining mit zwei Pausen zu Strategiemustern anhand von Bauernketten in Meisterpartien (pro Samstag ein Thema); Bitte per Code in Zoom anmelden\, wöchentliche Benachrichtigungen (mit jeweils neuem Code per Mail) gehen von uns an jeden registrierten Teilnehmer. \nTechnische Vorassetzungen siehe\nhttps://scsomborn.de/jugend/schach-akademie-freigericht/training/
URL:https://scsomborn.de/event/saf-strategietraining-online-27/
END:VEVENT
BEGIN:VEVENT
DTSTART;TZID=Europe/Berlin:20250215T190000
DTEND;TZID=Europe/Berlin:20250215T210000
DTSTAMP:20260424T132519
CREATED:20241221T230357Z
LAST-MODIFIED:20241229T194127Z
UID:2842-1739646000-1739653200@scsomborn.de
SUMMARY:SAF Arena Rapid-Turnier  (online)
DESCRIPTION:Arena-Rapidturnier 15 min Bedenkzeit in Lichess-Team Unterfranken Schach Akademie (zur Leistungsmessung sehr empfehlenswert\, bitte frei ein- und aussteigen!)\, Benachrichtigungen per WhatsApp.weitere Information siehe\nhttps://scsomborn.de/jugend/schach-akademie-freigericht/training/
URL:https://scsomborn.de/event/arena-rapid-turnier-online-27/
END:VEVENT
BEGIN:VEVENT
DTSTART;TZID=Europe/Berlin:20250216T140000
DTEND;TZID=Europe/Berlin:20250216T170000
DTSTAMP:20260424T132519
CREATED:20241207T121708Z
LAST-MODIFIED:20241207T121708Z
UID:2700-1739714400-1739725200@scsomborn.de
SUMMARY:Jugendmannschaft MVS Runde 4
DESCRIPTION:
URL:https://scsomborn.de/event/jugendmannschaft-mvs-runde-4-2/
END:VEVENT
BEGIN:VEVENT
DTSTART;TZID=Europe/Berlin:20250221T183000
DTEND;TZID=Europe/Berlin:20250221T193000
DTSTAMP:20260424T132519
CREATED:20241207T122328Z
LAST-MODIFIED:20250207T204223Z
UID:2708-1740162600-1740166200@scsomborn.de
SUMMARY:Jugendtraining
DESCRIPTION:
URL:https://scsomborn.de/event/jugendtraining-67/
END:VEVENT
BEGIN:VEVENT
DTSTART;TZID=Europe/Berlin:20250221T193000
DTEND;TZID=Europe/Berlin:20250221T201500
DTSTAMP:20260424T132519
CREATED:20241207T122551Z
LAST-MODIFIED:20241207T122551Z
UID:2716-1740166200-1740168900@scsomborn.de
SUMMARY:Training Fortgeschrittene & Erwachsene
DESCRIPTION:
URL:https://scsomborn.de/event/training-fortgeschrittene-erwachsene-21/
END:VEVENT
BEGIN:VEVENT
DTSTART;TZID=Europe/Berlin:20250221T201500
DTEND;TZID=Europe/Berlin:20250221T230000
DTSTAMP:20260424T132519
CREATED:20241202T201216Z
LAST-MODIFIED:20241202T201216Z
UID:2692-1740168900-1740178800@scsomborn.de
SUMMARY:Vereinsabend: Training / freie Partien
DESCRIPTION:
URL:https://scsomborn.de/event/vereinsabend-training-freie-partien-12/
END:VEVENT
BEGIN:VEVENT
DTSTART;TZID=Europe/Berlin:20250222T120000
DTEND;TZID=Europe/Berlin:20250222T140000
DTSTAMP:20260424T132519
CREATED:20241221T230256Z
LAST-MODIFIED:20241221T231726Z
UID:2818-1740225600-1740232800@scsomborn.de
SUMMARY:SAF Strategietraining  (online)
DESCRIPTION:Strategieworkshop SAF als Zoomtraining mit zwei Pausen zu Strategiemustern anhand von Bauernketten in Meisterpartien (pro Samstag ein Thema); Bitte per Code in Zoom anmelden\, wöchentliche Benachrichtigungen (mit jeweils neuem Code per Mail) gehen von uns an jeden registrierten Teilnehmer. \nTechnische Vorassetzungen siehe\nhttps://scsomborn.de/jugend/schach-akademie-freigericht/training/
URL:https://scsomborn.de/event/saf-strategietraining-online-28/
END:VEVENT
BEGIN:VEVENT
DTSTART;TZID=Europe/Berlin:20250222T180000
DTEND;TZID=Europe/Berlin:20250222T230000
DTSTAMP:20260424T132519
CREATED:20240706T172146Z
LAST-MODIFIED:20240706T172146Z
UID:2226-1740247200-1740265200@scsomborn.de
SUMMARY:7. Runde Bezirksoberliga 	Somborn I – Erlensee/Langenselbold I
DESCRIPTION:
URL:https://scsomborn.de/event/7-runde-bezirksoberliga-somborn-i-erlensee-langenselbold-i/
END:VEVENT
BEGIN:VEVENT
DTSTART;TZID=Europe/Berlin:20250228T183000
DTEND;TZID=Europe/Berlin:20250228T193000
DTSTAMP:20260424T132519
CREATED:20241207T122353Z
LAST-MODIFIED:20250207T204259Z
UID:2710-1740767400-1740771000@scsomborn.de
SUMMARY:Jugendtraining
DESCRIPTION:
URL:https://scsomborn.de/event/jugendtraining-68/
END:VEVENT
BEGIN:VEVENT
DTSTART;TZID=Europe/Berlin:20250228T193000
DTEND;TZID=Europe/Berlin:20250228T201500
DTSTAMP:20260424T132519
CREATED:20241207T122615Z
LAST-MODIFIED:20241207T122615Z
UID:2718-1740771000-1740773700@scsomborn.de
SUMMARY:Training Fortgeschrittene & Erwachsene
DESCRIPTION:
URL:https://scsomborn.de/event/training-fortgeschrittene-erwachsene-22/
END:VEVENT
BEGIN:VEVENT
DTSTART;TZID=Europe/Berlin:20250228T201500
DTEND;TZID=Europe/Berlin:20250228T230000
DTSTAMP:20260424T132519
CREATED:20241202T201505Z
LAST-MODIFIED:20241202T201505Z
UID:2696-1740773700-1740783600@scsomborn.de
SUMMARY:Vereinsmeisterschaft / Training & freie Partien
DESCRIPTION:
URL:https://scsomborn.de/event/vereinsmeisterschaft-training-freie-partien-22/
END:VEVENT
END:VCALENDAR