BEGIN:VCALENDAR
VERSION:2.0
PRODID:-//1. Schachclub Somborn 1933 e.V. - ECPv6.15.20//NONSGML v1.0//EN
CALSCALE:GREGORIAN
METHOD:PUBLISH
X-ORIGINAL-URL:https://scsomborn.de
X-WR-CALDESC:Veranstaltungen für 1. Schachclub Somborn 1933 e.V.
REFRESH-INTERVAL;VALUE=DURATION:PT1H
X-Robots-Tag:noindex
X-PUBLISHED-TTL:PT1H
BEGIN:VTIMEZONE
TZID:Europe/Berlin
BEGIN:DAYLIGHT
TZOFFSETFROM:+0100
TZOFFSETTO:+0200
TZNAME:CEST
DTSTART:20230326T010000
END:DAYLIGHT
BEGIN:STANDARD
TZOFFSETFROM:+0200
TZOFFSETTO:+0100
TZNAME:CET
DTSTART:20231029T010000
END:STANDARD
BEGIN:DAYLIGHT
TZOFFSETFROM:+0100
TZOFFSETTO:+0200
TZNAME:CEST
DTSTART:20240331T010000
END:DAYLIGHT
BEGIN:STANDARD
TZOFFSETFROM:+0200
TZOFFSETTO:+0100
TZNAME:CET
DTSTART:20241027T010000
END:STANDARD
BEGIN:DAYLIGHT
TZOFFSETFROM:+0100
TZOFFSETTO:+0200
TZNAME:CEST
DTSTART:20250330T010000
END:DAYLIGHT
BEGIN:STANDARD
TZOFFSETFROM:+0200
TZOFFSETTO:+0100
TZNAME:CET
DTSTART:20251026T010000
END:STANDARD
END:VTIMEZONE
BEGIN:VEVENT
DTSTART;TZID=Europe/Berlin:20241220T201500
DTEND;TZID=Europe/Berlin:20241220T233000
DTSTAMP:20260424T142442
CREATED:20240710T182125Z
LAST-MODIFIED:20240710T190216Z
UID:2336-1734725700-1734737400@scsomborn.de
SUMMARY:WEIHNACHTSFEIER & Blitzturnier
DESCRIPTION:
URL:https://scsomborn.de/event/weihnachtsfeier-blitzturnier/
END:VEVENT
BEGIN:VEVENT
DTSTART;TZID=Europe/Berlin:20241227T201500
DTEND;TZID=Europe/Berlin:20241227T230000
DTSTAMP:20260424T142442
CREATED:20240710T183603Z
LAST-MODIFIED:20241221T132540Z
UID:2385-1735330500-1735340400@scsomborn.de
SUMMARY:KEIN  Vereinsabend
DESCRIPTION:
URL:https://scsomborn.de/event/vereinsabend-training-freie-partien-9/
END:VEVENT
END:VCALENDAR