BEGIN:VCALENDAR
VERSION:2.0
PRODID:-//1. Schachclub Somborn 1933 e.V. - ECPv6.15.20//NONSGML v1.0//EN
CALSCALE:GREGORIAN
METHOD:PUBLISH
X-WR-CALNAME:1. Schachclub Somborn 1933 e.V.
X-ORIGINAL-URL:https://scsomborn.de
X-WR-CALDESC:Veranstaltungen für 1. Schachclub Somborn 1933 e.V.
REFRESH-INTERVAL;VALUE=DURATION:PT1H
X-Robots-Tag:noindex
X-PUBLISHED-TTL:PT1H
BEGIN:VTIMEZONE
TZID:Europe/Berlin
BEGIN:DAYLIGHT
TZOFFSETFROM:+0100
TZOFFSETTO:+0200
TZNAME:CEST
DTSTART:20250330T010000
END:DAYLIGHT
BEGIN:STANDARD
TZOFFSETFROM:+0200
TZOFFSETTO:+0100
TZNAME:CET
DTSTART:20251026T010000
END:STANDARD
BEGIN:DAYLIGHT
TZOFFSETFROM:+0100
TZOFFSETTO:+0200
TZNAME:CEST
DTSTART:20260329T010000
END:DAYLIGHT
BEGIN:STANDARD
TZOFFSETFROM:+0200
TZOFFSETTO:+0100
TZNAME:CET
DTSTART:20261025T010000
END:STANDARD
BEGIN:DAYLIGHT
TZOFFSETFROM:+0100
TZOFFSETTO:+0200
TZNAME:CEST
DTSTART:20270328T010000
END:DAYLIGHT
BEGIN:STANDARD
TZOFFSETFROM:+0200
TZOFFSETTO:+0100
TZNAME:CET
DTSTART:20271031T010000
END:STANDARD
END:VTIMEZONE
BEGIN:VEVENT
DTSTART;TZID=Europe/Berlin:20260828T200000
DTEND;TZID=Europe/Berlin:20260828T230000
DTSTAMP:20260420T121523
CREATED:20260304T193338Z
LAST-MODIFIED:20260304T193338Z
UID:3926-1787947200-1787958000@scsomborn.de
SUMMARY:Vereinsabend: Vereinsmeisterschaft / freie Partien
DESCRIPTION:
URL:https://scsomborn.de/event/vereinsabend-vereinsmeisterschaft-freie-partien-20/
END:VEVENT
BEGIN:VEVENT
DTSTART;TZID=Europe/Berlin:20260829T093000
DTEND;TZID=Europe/Berlin:20260829T230000
DTSTAMP:20260420T121523
CREATED:20260317T092845Z
LAST-MODIFIED:20260317T092851Z
UID:3962-1787995800-1788044400@scsomborn.de
SUMMARY:MVS-Open 2026
DESCRIPTION:Ausschreibung\nMVS-Open_2026 Ausschreibung.pdf \n================================================================ \nVeranstalter:\nMain-Vogelsberg-Schachverband \nModus:\n5 Runden beschleunigtes Schweizer System \nBedenkzeit:\n90 Min./40 Züge + 30 Min./Rest + 30 Sek./Zug vom ersten Zug an \nTerminplan: Jeweils mit 1 Stunde Karenz: \n1. Runde: Freitag\, 28. August 2026\, 17:30 Uhr\,\n2. Runde: Samstag\, 29. August 2026\, 09:30 Uhr\,\n3. Runde: Samstag\, 29. August 2026\, 15:00 Uhr *\,\n4. Runde: Sonntag\, 30. August 2026\, 09:30 Uhr\,\n5. Runde: Sonntag\, 30. August 2026\, 15:00 Uhr *\,\n   anschließend Siegerehrung. \nSpielort:\nHeinrich-Heldmann-Halle (Bürgerhaus)\, Main-Kinzig-Str. 31\,\n63607 Wächtersbach \nStartgeld:\n20\,00 € zuzüglich 10\,00 € Reuegeld\, das nach ordnungsgemäßer\nBeendigung des Turniers wieder ausgezahlt wird. \nMeldeschluss:\nMittwoch\, 26. August 2026 um 18:00 Uhr.\nAlle Teilnehmer müssen am ersten Spieltag (28. August 2026) bis\n17:15 Uhr ihre Teilnahme nochmals vor Ort bestätigt haben. \nTeilnehmerliste:\nhttp://www.main-vogelsberg-schachverband.de/
URL:https://scsomborn.de/event/mvs-open-2026-2/
END:VEVENT
BEGIN:VEVENT
DTSTART;TZID=Europe/Berlin:20260830T093000
DTEND;TZID=Europe/Berlin:20260830T220000
DTSTAMP:20260420T121523
CREATED:20260317T093017Z
LAST-MODIFIED:20260317T093021Z
UID:3966-1788082200-1788127200@scsomborn.de
SUMMARY:MVS-Open 2026
DESCRIPTION:Ausschreibung\nMVS-Open_2026 Ausschreibung.pdf \n================================================================ \nVeranstalter:\nMain-Vogelsberg-Schachverband \nModus:\n5 Runden beschleunigtes Schweizer System \nBedenkzeit:\n90 Min./40 Züge + 30 Min./Rest + 30 Sek./Zug vom ersten Zug an \nTerminplan: Jeweils mit 1 Stunde Karenz: \n1. Runde: Freitag\, 28. August 2026\, 17:30 Uhr\,\n2. Runde: Samstag\, 29. August 2026\, 09:30 Uhr\,\n3. Runde: Samstag\, 29. August 2026\, 15:00 Uhr *\,\n4. Runde: Sonntag\, 30. August 2026\, 09:30 Uhr\,\n5. Runde: Sonntag\, 30. August 2026\, 15:00 Uhr *\,\n   anschließend Siegerehrung. \nSpielort:\nHeinrich-Heldmann-Halle (Bürgerhaus)\, Main-Kinzig-Str. 31\,\n63607 Wächtersbach \nStartgeld:\n20\,00 € zuzüglich 10\,00 € Reuegeld\, das nach ordnungsgemäßer\nBeendigung des Turniers wieder ausgezahlt wird. \nMeldeschluss:\nMittwoch\, 26. August 2026 um 18:00 Uhr.\nAlle Teilnehmer müssen am ersten Spieltag (28. August 2026) bis\n17:15 Uhr ihre Teilnahme nochmals vor Ort bestätigt haben. \nTeilnehmerliste:\nhttp://www.main-vogelsberg-schachverband.de/
URL:https://scsomborn.de/event/mvs-open-2026-3/
END:VEVENT
BEGIN:VEVENT
DTSTART;VALUE=DATE:20261003
DTEND;VALUE=DATE:20261004
DTSTAMP:20260420T121523
CREATED:20260302T091408Z
LAST-MODIFIED:20260302T091408Z
UID:3884-1790985600-1791071999@scsomborn.de
SUMMARY:Tag der dt. Einheit
DESCRIPTION:
URL:https://scsomborn.de/event/tag-der-dt-einheit-2/
END:VEVENT
BEGIN:VEVENT
DTSTART;TZID=Europe/Berlin:20261004T100000
DTEND;TZID=Europe/Berlin:20261004T160000
DTSTAMP:20260420T121523
CREATED:20260302T090547Z
LAST-MODIFIED:20260302T090547Z
UID:3882-1791108000-1791129600@scsomborn.de
SUMMARY:Tag der Vereine - Horbach
DESCRIPTION:
URL:https://scsomborn.de/event/tag-der-vereine-horbach/
END:VEVENT
END:VCALENDAR