BEGIN:VCALENDAR
VERSION:2.0
PRODID:-//1. Schachclub Somborn 1933 e.V. - ECPv6.15.20//NONSGML v1.0//EN
CALSCALE:GREGORIAN
METHOD:PUBLISH
X-WR-CALNAME:1. Schachclub Somborn 1933 e.V.
X-ORIGINAL-URL:https://scsomborn.de
X-WR-CALDESC:Veranstaltungen für 1. Schachclub Somborn 1933 e.V.
REFRESH-INTERVAL;VALUE=DURATION:PT1H
X-Robots-Tag:noindex
X-PUBLISHED-TTL:PT1H
BEGIN:VTIMEZONE
TZID:Europe/Berlin
BEGIN:DAYLIGHT
TZOFFSETFROM:+0100
TZOFFSETTO:+0200
TZNAME:CEST
DTSTART:20250330T010000
END:DAYLIGHT
BEGIN:STANDARD
TZOFFSETFROM:+0200
TZOFFSETTO:+0100
TZNAME:CET
DTSTART:20251026T010000
END:STANDARD
BEGIN:DAYLIGHT
TZOFFSETFROM:+0100
TZOFFSETTO:+0200
TZNAME:CEST
DTSTART:20260329T010000
END:DAYLIGHT
BEGIN:STANDARD
TZOFFSETFROM:+0200
TZOFFSETTO:+0100
TZNAME:CET
DTSTART:20261025T010000
END:STANDARD
BEGIN:DAYLIGHT
TZOFFSETFROM:+0100
TZOFFSETTO:+0200
TZNAME:CEST
DTSTART:20270328T010000
END:DAYLIGHT
BEGIN:STANDARD
TZOFFSETFROM:+0200
TZOFFSETTO:+0100
TZNAME:CET
DTSTART:20271031T010000
END:STANDARD
END:VTIMEZONE
BEGIN:VEVENT
DTSTART;VALUE=DATE:20260807
DTEND;VALUE=DATE:20260808
DTSTAMP:20260422T151149
CREATED:20260304T194602Z
LAST-MODIFIED:20260304T194602Z
UID:3945-1786060800-1786147199@scsomborn.de
SUMMARY:Ende Sommerferien Hessen
DESCRIPTION:
URL:https://scsomborn.de/event/ende-sommerferien-hessen/
END:VEVENT
BEGIN:VEVENT
DTSTART;TZID=Europe/Berlin:20260807T183000
DTEND;TZID=Europe/Berlin:20260807T200000
DTSTAMP:20260422T151149
CREATED:20260304T193353Z
LAST-MODIFIED:20260304T193353Z
UID:3932-1786127400-1786132800@scsomborn.de
SUMMARY:Jugendtraining
DESCRIPTION:
URL:https://scsomborn.de/event/jugendtraining-32/
END:VEVENT
BEGIN:VEVENT
DTSTART;TZID=Europe/Berlin:20260807T201500
DTEND;TZID=Europe/Berlin:20260807T230000
DTSTAMP:20260422T151149
CREATED:20260304T193323Z
LAST-MODIFIED:20260304T193913Z
UID:3923-1786133700-1786143600@scsomborn.de
SUMMARY:Monatsblitzturnier
DESCRIPTION:
URL:https://scsomborn.de/event/vereinsabend-vereinsmeisterschaft-freie-partien-17/
END:VEVENT
END:VCALENDAR