BEGIN:VCALENDAR
VERSION:2.0
PRODID:-//1. Schachclub Somborn 1933 e.V. - ECPv6.15.20//NONSGML v1.0//EN
CALSCALE:GREGORIAN
METHOD:PUBLISH
X-ORIGINAL-URL:https://scsomborn.de
X-WR-CALDESC:Veranstaltungen für 1. Schachclub Somborn 1933 e.V.
REFRESH-INTERVAL;VALUE=DURATION:PT1H
X-Robots-Tag:noindex
X-PUBLISHED-TTL:PT1H
BEGIN:VTIMEZONE
TZID:Europe/Berlin
BEGIN:DAYLIGHT
TZOFFSETFROM:+0100
TZOFFSETTO:+0200
TZNAME:CEST
DTSTART:20250330T010000
END:DAYLIGHT
BEGIN:STANDARD
TZOFFSETFROM:+0200
TZOFFSETTO:+0100
TZNAME:CET
DTSTART:20251026T010000
END:STANDARD
BEGIN:DAYLIGHT
TZOFFSETFROM:+0100
TZOFFSETTO:+0200
TZNAME:CEST
DTSTART:20260329T010000
END:DAYLIGHT
BEGIN:STANDARD
TZOFFSETFROM:+0200
TZOFFSETTO:+0100
TZNAME:CET
DTSTART:20261025T010000
END:STANDARD
BEGIN:DAYLIGHT
TZOFFSETFROM:+0100
TZOFFSETTO:+0200
TZNAME:CEST
DTSTART:20270328T010000
END:DAYLIGHT
BEGIN:STANDARD
TZOFFSETFROM:+0200
TZOFFSETTO:+0100
TZNAME:CET
DTSTART:20271031T010000
END:STANDARD
END:VTIMEZONE
BEGIN:VEVENT
DTSTART;TZID=Europe/Berlin:20260614T140000
DTEND;TZID=Europe/Berlin:20260614T170000
DTSTAMP:20260420T133533
CREATED:20260406T230443Z
LAST-MODIFIED:20260406T230443Z
UID:4004-1781445600-1781456400@scsomborn.de
SUMMARY:MVS-Saisonbesprechung 2026/27
DESCRIPTION:Datum: 14. Juni\nZeit: 14:00 – 17:00 \nVeranstaltungsort\nBürgerhaus Großauheim\nHans-Gruber-Platz \nhttps://uv4.org/mvs/mannschaftsbesprechung-zur-saison-2026-27/‘ \n\n06.06.2026: Meldeschluss Mannschaften\n14.06.2026: Saisonbesprechung im Bürgerhaus Großauheim\, Beginn: 14 Uhr\n23.08.2026: Meldeschluss Aufstellungen\n05.09.2026: 1. Runde Kreisebene\n12.09.2026: 1. Runde Bezirksebene\n19.09.2026: 2. Runde Kreisebene\n26.09.2026: 2. Runde Bezirksebene\n24.10.2026: 1. Runde Heinz-Köhler-Pokal\n31.10.2026: 3. Runde Bezirksebene\n07.11.2026: 3. Runde Kreisebene\n14.11.2026: 4. Runde Bezirksebene\n21.11.2026: 4. Runde Kreisebene\n28.11.2026: 5. Runde Bezirksebene\n05.12.2026: 5. Runde Kreisebene\n12.12.2026: 2. Runde Heinz-Köhler-Pokal\n19.12.2026: Zusatztermin (Bezirks-/Kreisebene)\n16.01.2027: Zusatztermin (Kreisebene/Pokal)\n23.01.2027: 6. Runde Bezirksbene\n30.01.2027: 6. Runde Kreisebene\n06.02.2027: 3. Runde Heinz-Köhler-Pokal\n20.02.2027: 7. Runde Bezirksebene\n27.02.2027: 7. Runde Kreisebene\n06.03.2027: 8. Runde Bezirksebene\n13.03.2027: Zusatztermin (Kreisebene/Pokal)\n10.04.2027: Zusatztermin (Bezirks-/Kreisebene)\n17.04.2027: 4. Runde Heinz-Köhler-Pokal\n24.04.2027: 9. Runde Bezirksebene\n22.05.2027: Zusatztermin (Bezirksebene/Pokal)
URL:https://scsomborn.de/event/mvs-saisonbesprechung-2026-27/
END:VEVENT
END:VCALENDAR