BEGIN:VCALENDAR
VERSION:2.0
PRODID:-//1. Schachclub Somborn 1933 e.V. - ECPv6.15.20//NONSGML v1.0//EN
CALSCALE:GREGORIAN
METHOD:PUBLISH
X-ORIGINAL-URL:https://scsomborn.de
X-WR-CALDESC:Veranstaltungen für 1. Schachclub Somborn 1933 e.V.
REFRESH-INTERVAL;VALUE=DURATION:PT1H
X-Robots-Tag:noindex
X-PUBLISHED-TTL:PT1H
BEGIN:VTIMEZONE
TZID:Europe/Berlin
BEGIN:DAYLIGHT
TZOFFSETFROM:+0100
TZOFFSETTO:+0200
TZNAME:CEST
DTSTART:20250330T010000
END:DAYLIGHT
BEGIN:STANDARD
TZOFFSETFROM:+0200
TZOFFSETTO:+0100
TZNAME:CET
DTSTART:20251026T010000
END:STANDARD
BEGIN:DAYLIGHT
TZOFFSETFROM:+0100
TZOFFSETTO:+0200
TZNAME:CEST
DTSTART:20260329T010000
END:DAYLIGHT
BEGIN:STANDARD
TZOFFSETFROM:+0200
TZOFFSETTO:+0100
TZNAME:CET
DTSTART:20261025T010000
END:STANDARD
BEGIN:DAYLIGHT
TZOFFSETFROM:+0100
TZOFFSETTO:+0200
TZNAME:CEST
DTSTART:20270328T010000
END:DAYLIGHT
BEGIN:STANDARD
TZOFFSETFROM:+0200
TZOFFSETTO:+0100
TZNAME:CET
DTSTART:20271031T010000
END:STANDARD
END:VTIMEZONE
BEGIN:VEVENT
DTSTART;TZID=Europe/Berlin:20260517T100000
DTEND;TZID=Europe/Berlin:20260517T190000
DTSTAMP:20260424T132650
CREATED:20260413T130822Z
LAST-MODIFIED:20260413T131033Z
UID:4013-1779012000-1779044400@scsomborn.de
SUMMARY:Main-Vogelsberg-Schachjugend - 15min Schnellschach Turnier
DESCRIPTION:link zu Info-Dokument:\nMVSJ-Schnellschachturnier-2026 \n============================================================== \nVeranstalter\,  Ausrichter und Turnierorganisation:\nMain-Vogelsberg-Schachjugend im Main-Vogelsberg-Schachverband e.V. \nTurnierleiter:\nRSR Roland Michelmann – Turnierleiter für Einzel der MVSJ \nTurnierart:\nOpen\, max. 100 Teilnehmer/innen \nTeilnehmer/innen:\nOffen für alle Spielerinnen und Spieler die am 01.01.2026 noch keine 20 Jahre alt waren. \nTermin:  Sonntag\, 17.05.2026\nSpielort: Bürgerhaus Wolfgang\, Schanzenstr. 8\, 63457 Hanau\, Ortsteil Wolfgang\nModus: 7 Runden\, Schweizer-System \nBedenkzeit:\n15 Minuten pro Spieler und Partie plus 10 Sekunden Bonus je Zug ab dem ersten Zug. \nRatingklassen:\nDWZ < 900\, DWZ < 1200\, DWZ < 1500\, DWZ < 1800 \nAnmeldung:\nBis Donnerstag\, 14.05.2026 bitte per E-Mail an den Turnierleiter für Einzel: tlfe@mvsj.de\nDie Anmeldung ist auch noch am 17.05.2026 bis 10:30 Uhr im Turniersaal\nmöglich. Um Anmeldung per E-Mail (siehe oben) wird dringend gebeten! \nZeitplan:\nEinschreibung im Turniersaal am 17.05.2026 von 10:15 bis 10:45 Uhr.\nAb 10:15 Uhr gemeinsamer Aufbau der Bretter und Auslosung der 1. Runde.\nStart der ersten Runde ca. 11:00 Uhr.\nStart der nachfolgenden Runden ca. 15 Minuten nach Ende der vorherigen Runde.\n30 Minuten Pause nach Runde 3.\n\nSiegerehrungen:\n ab ca. 19:00 Uhr. \nPreise:\nPokale für die drei Bestplatzierten.\nPokal für die Beste /den Besten jeder Ratingklasse bei mindestens 5 Teilnehmer*innen in der Ratingklasse.\nPokal für das beste Mädchen.\nKeine doppelte Pokalvergabe (in diesem Fall geht der Pokal an die Nachfolgerin / den Nachfolger in der Rangliste).\nMedaille für jede Teilnehmerin / jeden Teilnehmer. \nStartgeld: Startgeldfrei \nSpielmaterial:\nTeilnehmende Vereine bringen bitte pro angefangen 2 Spieler/innen ein Brett incl. einer elektronischen Uhr mit. \nVerpflegung: Getränke und kleine Snacks können in der Halle erworben werden.\nAnsonstenbitte selbst ausreichende Versorgung mitbringen.
URL:https://scsomborn.de/event/main-vogelsberg-schachjugend-schnellschachturnier/
END:VEVENT
END:VCALENDAR