BEGIN:VCALENDAR
VERSION:2.0
PRODID:-//1. Schachclub Somborn 1933 e.V. - ECPv6.15.20//NONSGML v1.0//EN
CALSCALE:GREGORIAN
METHOD:PUBLISH
X-WR-CALNAME:1. Schachclub Somborn 1933 e.V.
X-ORIGINAL-URL:https://scsomborn.de
X-WR-CALDESC:Veranstaltungen für 1. Schachclub Somborn 1933 e.V.
REFRESH-INTERVAL;VALUE=DURATION:PT1H
X-Robots-Tag:noindex
X-PUBLISHED-TTL:PT1H
BEGIN:VTIMEZONE
TZID:Europe/Berlin
BEGIN:DAYLIGHT
TZOFFSETFROM:+0100
TZOFFSETTO:+0200
TZNAME:CEST
DTSTART:20250330T010000
END:DAYLIGHT
BEGIN:STANDARD
TZOFFSETFROM:+0200
TZOFFSETTO:+0100
TZNAME:CET
DTSTART:20251026T010000
END:STANDARD
BEGIN:DAYLIGHT
TZOFFSETFROM:+0100
TZOFFSETTO:+0200
TZNAME:CEST
DTSTART:20260329T010000
END:DAYLIGHT
BEGIN:STANDARD
TZOFFSETFROM:+0200
TZOFFSETTO:+0100
TZNAME:CET
DTSTART:20261025T010000
END:STANDARD
BEGIN:DAYLIGHT
TZOFFSETFROM:+0100
TZOFFSETTO:+0200
TZNAME:CEST
DTSTART:20270328T010000
END:DAYLIGHT
BEGIN:STANDARD
TZOFFSETFROM:+0200
TZOFFSETTO:+0100
TZNAME:CET
DTSTART:20271031T010000
END:STANDARD
END:VTIMEZONE
BEGIN:VEVENT
DTSTART;TZID=Europe/Berlin:20260109T183000
DTEND;TZID=Europe/Berlin:20260109T200000
DTSTAMP:20260422T121743
CREATED:20251221T221524Z
LAST-MODIFIED:20251221T221524Z
UID:3690-1767983400-1767988800@scsomborn.de
SUMMARY:Jugendtraining
DESCRIPTION:
URL:https://scsomborn.de/event/jugendtraining-2/
END:VEVENT
BEGIN:VEVENT
DTSTART;TZID=Europe/Berlin:20260109T201500
DTEND;TZID=Europe/Berlin:20260109T230000
DTSTAMP:20260422T121743
CREATED:20250528T231201Z
LAST-MODIFIED:20250528T231201Z
UID:3215-1767989700-1767999600@scsomborn.de
SUMMARY:Vereinsmeisterschaft / freie Partien
DESCRIPTION:
URL:https://scsomborn.de/event/vereinsmeisterschaft-freie-partien-8/
END:VEVENT
END:VCALENDAR