BEGIN:VCALENDAR
VERSION:2.0
PRODID:-//1. Schachclub Somborn 1933 e.V. - ECPv6.15.20//NONSGML v1.0//EN
CALSCALE:GREGORIAN
METHOD:PUBLISH
X-WR-CALNAME:1. Schachclub Somborn 1933 e.V.
X-ORIGINAL-URL:https://scsomborn.de
X-WR-CALDESC:Veranstaltungen für 1. Schachclub Somborn 1933 e.V.
REFRESH-INTERVAL;VALUE=DURATION:PT1H
X-Robots-Tag:noindex
X-PUBLISHED-TTL:PT1H
BEGIN:VTIMEZONE
TZID:Europe/Berlin
BEGIN:DAYLIGHT
TZOFFSETFROM:+0100
TZOFFSETTO:+0200
TZNAME:CEST
DTSTART:20240331T010000
END:DAYLIGHT
BEGIN:STANDARD
TZOFFSETFROM:+0200
TZOFFSETTO:+0100
TZNAME:CET
DTSTART:20241027T010000
END:STANDARD
BEGIN:DAYLIGHT
TZOFFSETFROM:+0100
TZOFFSETTO:+0200
TZNAME:CEST
DTSTART:20250330T010000
END:DAYLIGHT
BEGIN:STANDARD
TZOFFSETFROM:+0200
TZOFFSETTO:+0100
TZNAME:CET
DTSTART:20251026T010000
END:STANDARD
BEGIN:DAYLIGHT
TZOFFSETFROM:+0100
TZOFFSETTO:+0200
TZNAME:CEST
DTSTART:20260329T010000
END:DAYLIGHT
BEGIN:STANDARD
TZOFFSETFROM:+0200
TZOFFSETTO:+0100
TZNAME:CET
DTSTART:20261025T010000
END:STANDARD
END:VTIMEZONE
BEGIN:VEVENT
DTSTART;TZID=Europe/Berlin:20250823T150000
DTEND;TZID=Europe/Berlin:20250823T180000
DTSTAMP:20260422T214119
CREATED:20250821T135159Z
LAST-MODIFIED:20250821T141632Z
UID:3378-1755961200-1755972000@scsomborn.de
SUMMARY:FAMILIENSCHACH im Freigericht
DESCRIPTION:Event am 23.8.2025 um 15:00 bis 18:00\nAm Sportfeld 16 in Somborn \nTurnier der Nachwuchsspieler ab 6 Jahren\nIn einem Rapid-Turnier mit 15 min Bedenkzeit pro Spieler und\nohne Notationspflicht wollen wir erneut die Gelegenheit geben\,\nerlerntes Wissen anzuwenden und ein paar spannende Partien zu\nabsolvieren. Mit ca. fünf Runden wird das Turnier im Hauptraum\nausgetragen unter Moderation von Hans-Gerd und Maria. Jeder\nkleine Spieler kann mitmachen\, bitte meldet Euch an. \nParalleler Workshop der Eltern im Nebenraum\nUnter Leitung von Andreas Goldschmidt und bei honduranischem Espresso und Kuchen\nwerden die Eltern über das globale Schach informiert: \n ELO-System und Spielformate\n Regelkunde und Fairness\n Drei Spielphasen und Trainingsansätze\n Ausgewählte Taktikmuster und Spielzüge\n Unser Angebot als Verein und Akademie
URL:https://scsomborn.de/event/familienschach-in-freigericht/
END:VEVENT
END:VCALENDAR