BEGIN:VCALENDAR
VERSION:2.0
PRODID:-//1. Schachclub Somborn 1933 e.V. - ECPv6.15.20//NONSGML v1.0//EN
CALSCALE:GREGORIAN
METHOD:PUBLISH
X-WR-CALNAME:1. Schachclub Somborn 1933 e.V.
X-ORIGINAL-URL:https://scsomborn.de
X-WR-CALDESC:Veranstaltungen für 1. Schachclub Somborn 1933 e.V.
REFRESH-INTERVAL;VALUE=DURATION:PT1H
X-Robots-Tag:noindex
X-PUBLISHED-TTL:PT1H
BEGIN:VTIMEZONE
TZID:Europe/Berlin
BEGIN:DAYLIGHT
TZOFFSETFROM:+0100
TZOFFSETTO:+0200
TZNAME:CEST
DTSTART:20240331T010000
END:DAYLIGHT
BEGIN:STANDARD
TZOFFSETFROM:+0200
TZOFFSETTO:+0100
TZNAME:CET
DTSTART:20241027T010000
END:STANDARD
BEGIN:DAYLIGHT
TZOFFSETFROM:+0100
TZOFFSETTO:+0200
TZNAME:CEST
DTSTART:20250330T010000
END:DAYLIGHT
BEGIN:STANDARD
TZOFFSETFROM:+0200
TZOFFSETTO:+0100
TZNAME:CET
DTSTART:20251026T010000
END:STANDARD
BEGIN:DAYLIGHT
TZOFFSETFROM:+0100
TZOFFSETTO:+0200
TZNAME:CEST
DTSTART:20260329T010000
END:DAYLIGHT
BEGIN:STANDARD
TZOFFSETFROM:+0200
TZOFFSETTO:+0100
TZNAME:CET
DTSTART:20261025T010000
END:STANDARD
END:VTIMEZONE
BEGIN:VEVENT
DTSTART;TZID=Europe/Berlin:20250808T183000
DTEND;TZID=Europe/Berlin:20250808T193000
DTSTAMP:20260422T214121
CREATED:20250703T180943Z
LAST-MODIFIED:20250703T180943Z
UID:3299-1754677800-1754681400@scsomborn.de
SUMMARY:Jugendtraining
DESCRIPTION:
URL:https://scsomborn.de/event/jugendtraining-90/
END:VEVENT
BEGIN:VEVENT
DTSTART;TZID=Europe/Berlin:20250808T193000
DTEND;TZID=Europe/Berlin:20250808T201500
DTSTAMP:20260422T214121
CREATED:20241221T233833Z
LAST-MODIFIED:20241221T233833Z
UID:2952-1754681400-1754684100@scsomborn.de
SUMMARY:Training Fortgeschrittene & Erwachsene
DESCRIPTION:
URL:https://scsomborn.de/event/training-fortgeschrittene-erwachsene-45/
END:VEVENT
BEGIN:VEVENT
DTSTART;TZID=Europe/Berlin:20250808T201500
DTEND;TZID=Europe/Berlin:20250808T230000
DTSTAMP:20260422T214121
CREATED:20250528T231116Z
LAST-MODIFIED:20250528T231116Z
UID:3201-1754684100-1754694000@scsomborn.de
SUMMARY:Vereinsabend: Training / freie Partien
DESCRIPTION:
URL:https://scsomborn.de/event/vereinsabend-training-freie-partien-27/
END:VEVENT
END:VCALENDAR