BEGIN:VCALENDAR
VERSION:2.0
PRODID:-//1. Schachclub Somborn 1933 e.V. - ECPv6.15.20//NONSGML v1.0//EN
CALSCALE:GREGORIAN
METHOD:PUBLISH
X-ORIGINAL-URL:https://scsomborn.de
X-WR-CALDESC:Veranstaltungen für 1. Schachclub Somborn 1933 e.V.
REFRESH-INTERVAL;VALUE=DURATION:PT1H
X-Robots-Tag:noindex
X-PUBLISHED-TTL:PT1H
BEGIN:VTIMEZONE
TZID:Europe/Berlin
BEGIN:DAYLIGHT
TZOFFSETFROM:+0100
TZOFFSETTO:+0200
TZNAME:CEST
DTSTART:20240331T010000
END:DAYLIGHT
BEGIN:STANDARD
TZOFFSETFROM:+0200
TZOFFSETTO:+0100
TZNAME:CET
DTSTART:20241027T010000
END:STANDARD
BEGIN:DAYLIGHT
TZOFFSETFROM:+0100
TZOFFSETTO:+0200
TZNAME:CEST
DTSTART:20250330T010000
END:DAYLIGHT
BEGIN:STANDARD
TZOFFSETFROM:+0200
TZOFFSETTO:+0100
TZNAME:CET
DTSTART:20251026T010000
END:STANDARD
BEGIN:DAYLIGHT
TZOFFSETFROM:+0100
TZOFFSETTO:+0200
TZNAME:CEST
DTSTART:20260329T010000
END:DAYLIGHT
BEGIN:STANDARD
TZOFFSETFROM:+0200
TZOFFSETTO:+0100
TZNAME:CET
DTSTART:20261025T010000
END:STANDARD
END:VTIMEZONE
BEGIN:VEVENT
DTSTART;TZID=Europe/Berlin:20250704T183000
DTEND;TZID=Europe/Berlin:20250704T193000
DTSTAMP:20260423T002928
CREATED:20250703T180705Z
LAST-MODIFIED:20250703T180705Z
UID:3289-1751653800-1751657400@scsomborn.de
SUMMARY:Jugendtraining
DESCRIPTION:
URL:https://scsomborn.de/event/jugendtraining-85/
END:VEVENT
BEGIN:VEVENT
DTSTART;TZID=Europe/Berlin:20250704T193000
DTEND;TZID=Europe/Berlin:20250704T201500
DTSTAMP:20260423T002928
CREATED:20241221T233817Z
LAST-MODIFIED:20241221T233817Z
UID:2947-1751657400-1751660100@scsomborn.de
SUMMARY:Training Fortgeschrittene & Erwachsene
DESCRIPTION:
URL:https://scsomborn.de/event/training-fortgeschrittene-erwachsene-40/
END:VEVENT
BEGIN:VEVENT
DTSTART;TZID=Europe/Berlin:20250704T201500
DTEND;TZID=Europe/Berlin:20250704T230000
DTSTAMP:20260423T002928
CREATED:20250506T193610Z
LAST-MODIFIED:20250506T193610Z
UID:3180-1751660100-1751670000@scsomborn.de
SUMMARY:Monatsblitzturnier 3
DESCRIPTION:
URL:https://scsomborn.de/event/monatsblitzturnier-3-3/
END:VEVENT
END:VCALENDAR