BEGIN:VCALENDAR
VERSION:2.0
PRODID:-//1. Schachclub Somborn 1933 e.V. - ECPv6.15.20//NONSGML v1.0//EN
CALSCALE:GREGORIAN
METHOD:PUBLISH
X-ORIGINAL-URL:https://scsomborn.de
X-WR-CALDESC:Veranstaltungen für 1. Schachclub Somborn 1933 e.V.
REFRESH-INTERVAL;VALUE=DURATION:PT1H
X-Robots-Tag:noindex
X-PUBLISHED-TTL:PT1H
BEGIN:VTIMEZONE
TZID:Europe/Berlin
BEGIN:DAYLIGHT
TZOFFSETFROM:+0100
TZOFFSETTO:+0200
TZNAME:CEST
DTSTART:20240331T010000
END:DAYLIGHT
BEGIN:STANDARD
TZOFFSETFROM:+0200
TZOFFSETTO:+0100
TZNAME:CET
DTSTART:20241027T010000
END:STANDARD
BEGIN:DAYLIGHT
TZOFFSETFROM:+0100
TZOFFSETTO:+0200
TZNAME:CEST
DTSTART:20250330T010000
END:DAYLIGHT
BEGIN:STANDARD
TZOFFSETFROM:+0200
TZOFFSETTO:+0100
TZNAME:CET
DTSTART:20251026T010000
END:STANDARD
BEGIN:DAYLIGHT
TZOFFSETFROM:+0100
TZOFFSETTO:+0200
TZNAME:CEST
DTSTART:20260329T010000
END:DAYLIGHT
BEGIN:STANDARD
TZOFFSETFROM:+0200
TZOFFSETTO:+0100
TZNAME:CET
DTSTART:20261025T010000
END:STANDARD
END:VTIMEZONE
BEGIN:VEVENT
DTSTART;TZID=Europe/Berlin:20250517T120000
DTEND;TZID=Europe/Berlin:20250517T140000
DTSTAMP:20260423T032522
CREATED:20241221T230327Z
LAST-MODIFIED:20241221T231743Z
UID:2835-1747483200-1747490400@scsomborn.de
SUMMARY:SAF Strategietraining  (online)
DESCRIPTION:Strategieworkshop SAF als Zoomtraining mit zwei Pausen zu Strategiemustern anhand von Bauernketten in Meisterpartien (pro Samstag ein Thema); Bitte per Code in Zoom anmelden\, wöchentliche Benachrichtigungen (mit jeweils neuem Code per Mail) gehen von uns an jeden registrierten Teilnehmer. \nTechnische Vorassetzungen siehe\nhttps://scsomborn.de/jugend/schach-akademie-freigericht/training/
URL:https://scsomborn.de/event/saf-strategietraining-online-40/
END:VEVENT
BEGIN:VEVENT
DTSTART;TZID=Europe/Berlin:20250517T180000
DTEND;TZID=Europe/Berlin:20250517T230000
DTSTAMP:20260423T032522
CREATED:20240706T172253Z
LAST-MODIFIED:20240706T172253Z
UID:2230-1747504800-1747522800@scsomborn.de
SUMMARY:9. Runde Bezirksoberliga 	Somborn I – Nidderau I
DESCRIPTION:
URL:https://scsomborn.de/event/9-runde-bezirksoberliga-somborn-i-nidderau-i/
END:VEVENT
END:VCALENDAR