BEGIN:VCALENDAR
VERSION:2.0
PRODID:-//1. Schachclub Somborn 1933 e.V. - ECPv6.15.20//NONSGML v1.0//EN
CALSCALE:GREGORIAN
METHOD:PUBLISH
X-WR-CALNAME:1. Schachclub Somborn 1933 e.V.
X-ORIGINAL-URL:https://scsomborn.de
X-WR-CALDESC:Veranstaltungen für 1. Schachclub Somborn 1933 e.V.
REFRESH-INTERVAL;VALUE=DURATION:PT1H
X-Robots-Tag:noindex
X-PUBLISHED-TTL:PT1H
BEGIN:VTIMEZONE
TZID:Europe/Berlin
BEGIN:DAYLIGHT
TZOFFSETFROM:+0100
TZOFFSETTO:+0200
TZNAME:CEST
DTSTART:20240331T010000
END:DAYLIGHT
BEGIN:STANDARD
TZOFFSETFROM:+0200
TZOFFSETTO:+0100
TZNAME:CET
DTSTART:20241027T010000
END:STANDARD
BEGIN:DAYLIGHT
TZOFFSETFROM:+0100
TZOFFSETTO:+0200
TZNAME:CEST
DTSTART:20250330T010000
END:DAYLIGHT
BEGIN:STANDARD
TZOFFSETFROM:+0200
TZOFFSETTO:+0100
TZNAME:CET
DTSTART:20251026T010000
END:STANDARD
BEGIN:DAYLIGHT
TZOFFSETFROM:+0100
TZOFFSETTO:+0200
TZNAME:CEST
DTSTART:20260329T010000
END:DAYLIGHT
BEGIN:STANDARD
TZOFFSETFROM:+0200
TZOFFSETTO:+0100
TZNAME:CET
DTSTART:20261025T010000
END:STANDARD
END:VTIMEZONE
BEGIN:VEVENT
DTSTART;TZID=Europe/Berlin:20250425T183000
DTEND;TZID=Europe/Berlin:20250425T193000
DTSTAMP:20260423T044451
CREATED:20241207T130246Z
LAST-MODIFIED:20250309T181205Z
UID:2735-1745605800-1745609400@scsomborn.de
SUMMARY:Jugendtraining
DESCRIPTION:
URL:https://scsomborn.de/event/jugendtraining-76/
END:VEVENT
BEGIN:VEVENT
DTSTART;TZID=Europe/Berlin:20250425T193000
DTEND;TZID=Europe/Berlin:20250425T201500
DTSTAMP:20260423T044451
CREATED:20241221T233746Z
LAST-MODIFIED:20241221T233746Z
UID:2937-1745609400-1745612100@scsomborn.de
SUMMARY:Training Fortgeschrittene & Erwachsene
DESCRIPTION:
URL:https://scsomborn.de/event/training-fortgeschrittene-erwachsene-30/
END:VEVENT
BEGIN:VEVENT
DTSTART;TZID=Europe/Berlin:20250425T200000
DTEND;TZID=Europe/Berlin:20250425T230000
DTSTAMP:20260423T044451
CREATED:20250309T172424Z
LAST-MODIFIED:20250309T172424Z
UID:3076-1745611200-1745622000@scsomborn.de
SUMMARY:JAHRESHAUPTVERSAMMLUNG
DESCRIPTION:
URL:https://scsomborn.de/event/jahreshauptversammlung-2/
END:VEVENT
END:VCALENDAR