BEGIN:VCALENDAR
VERSION:2.0
PRODID:-//1. Schachclub Somborn 1933 e.V. - ECPv6.15.20//NONSGML v1.0//EN
CALSCALE:GREGORIAN
METHOD:PUBLISH
X-WR-CALNAME:1. Schachclub Somborn 1933 e.V.
X-ORIGINAL-URL:https://scsomborn.de
X-WR-CALDESC:Veranstaltungen für 1. Schachclub Somborn 1933 e.V.
REFRESH-INTERVAL;VALUE=DURATION:PT1H
X-Robots-Tag:noindex
X-PUBLISHED-TTL:PT1H
BEGIN:VTIMEZONE
TZID:Europe/Berlin
BEGIN:DAYLIGHT
TZOFFSETFROM:+0100
TZOFFSETTO:+0200
TZNAME:CEST
DTSTART:20240331T010000
END:DAYLIGHT
BEGIN:STANDARD
TZOFFSETFROM:+0200
TZOFFSETTO:+0100
TZNAME:CET
DTSTART:20241027T010000
END:STANDARD
BEGIN:DAYLIGHT
TZOFFSETFROM:+0100
TZOFFSETTO:+0200
TZNAME:CEST
DTSTART:20250330T010000
END:DAYLIGHT
BEGIN:STANDARD
TZOFFSETFROM:+0200
TZOFFSETTO:+0100
TZNAME:CET
DTSTART:20251026T010000
END:STANDARD
BEGIN:DAYLIGHT
TZOFFSETFROM:+0100
TZOFFSETTO:+0200
TZNAME:CEST
DTSTART:20260329T010000
END:DAYLIGHT
BEGIN:STANDARD
TZOFFSETFROM:+0200
TZOFFSETTO:+0100
TZNAME:CET
DTSTART:20261025T010000
END:STANDARD
END:VTIMEZONE
BEGIN:VEVENT
DTSTART;TZID=Europe/Berlin:20250404T183000
DTEND;TZID=Europe/Berlin:20250404T183000
DTSTAMP:20260423T032045
CREATED:20241207T130244Z
LAST-MODIFIED:20250207T204527Z
UID:2732-1743791400-1743791400@scsomborn.de
SUMMARY:Jugendtraining
DESCRIPTION:
URL:https://scsomborn.de/event/jugendtraining-73/
END:VEVENT
BEGIN:VEVENT
DTSTART;TZID=Europe/Berlin:20250404T193000
DTEND;TZID=Europe/Berlin:20250404T201500
DTSTAMP:20260423T032045
CREATED:20241221T233744Z
LAST-MODIFIED:20241221T233744Z
UID:2934-1743795000-1743797700@scsomborn.de
SUMMARY:Training Fortgeschrittene & Erwachsene
DESCRIPTION:
URL:https://scsomborn.de/event/training-fortgeschrittene-erwachsene-27/
END:VEVENT
BEGIN:VEVENT
DTSTART;TZID=Europe/Berlin:20250404T201500
DTEND;TZID=Europe/Berlin:20250404T230000
DTSTAMP:20260423T032045
CREATED:20250309T180259Z
LAST-MODIFIED:20250309T180259Z
UID:3094-1743797700-1743807600@scsomborn.de
SUMMARY:Monatsblitzturnier 11
DESCRIPTION:
URL:https://scsomborn.de/event/monatsblitzturnier-11/
END:VEVENT
END:VCALENDAR